BEGIN:VCALENDAR
VERSION:2.0
PRODID:-//ease.firespring.org//NONSGML kigkonsult.se iCalcreator 2.30.10//
CALSCALE:GREGORIAN
METHOD:PUBLISH
UID:9ee4ecbd-007f-4fa7-a411-7210d091c7da
X-WR-CALDESC:Monthly Board Meeting
X-WR-RELCALID:1e2d869a246683e1b20f78b247f104a1
X-WR-TIMEZONE:America/Chicago
BEGIN:VTIMEZONE
TZID:America/Chicago
BEGIN:STANDARD
TZNAME:CST
DTSTART:20271107T020000
TZOFFSETFROM:-0500
TZOFFSETTO:-0600
RDATE:20281105T020000
RDATE:20291104T020000
END:STANDARD
BEGIN:DAYLIGHT
TZNAME:CDT
DTSTART:20280312T020000
TZOFFSETFROM:-0600
TZOFFSETTO:-0500
RDATE:20290311T020000
END:DAYLIGHT
END:VTIMEZONE
BEGIN:VEVENT
UID:fafad0ff-0bfc-41e7-8aad-fa68651c84e4
DTSTAMP:20260426T021403Z
DESCRIPTION:Monthly Board Meeting
DTSTART;TZID=America/Chicago:20280609T183000
DTEND;TZID=America/Chicago:20280609T200000
LOCATION:Atrium Meeting Room
SUMMARY:Board Meeting
END:VEVENT
END:VCALENDAR
