BEGIN:VCALENDAR
VERSION:2.0
PRODID:-//ease.firespring.org//NONSGML kigkonsult.se iCalcreator 2.30.10//
CALSCALE:GREGORIAN
METHOD:PUBLISH
UID:94f9738a-992e-4ca3-aa38-e63b42d4fda6
X-WR-CALDESC:Monthly Board Meeting
X-WR-RELCALID:b8446010251b8c6371e258d3548e16c2
X-WR-TIMEZONE:America/Chicago
BEGIN:VTIMEZONE
TZID:America/Chicago
BEGIN:STANDARD
TZNAME:CST
DTSTART:20271107T020000
TZOFFSETFROM:-0500
TZOFFSETTO:-0600
RDATE:20281105T020000
END:STANDARD
BEGIN:DAYLIGHT
TZNAME:CDT
DTSTART:20270314T020000
TZOFFSETFROM:-0600
TZOFFSETTO:-0500
RDATE:20280312T020000
RDATE:20290311T020000
END:DAYLIGHT
END:VTIMEZONE
BEGIN:VEVENT
UID:27496493-1d74-41f0-a522-b2e3143b0b66
DTSTAMP:20260425T184150Z
DESCRIPTION:Monthly Board Meeting
DTSTART;TZID=America/Chicago:20280114T183000
DTEND;TZID=America/Chicago:20280114T200000
LOCATION:Atrium Meeting Room
SUMMARY:Board Meeting
END:VEVENT
END:VCALENDAR
