BEGIN:VCALENDAR
VERSION:2.0
PRODID:-//ease.firespring.org//NONSGML kigkonsult.se iCalcreator 2.30.10//
CALSCALE:GREGORIAN
METHOD:PUBLISH
UID:00bd7143-4e29-4446-a140-1bd9a6cab173
X-WR-CALDESC:Monthly Board Meeting
X-WR-RELCALID:633d8d96ab6fd98a94aed1552f423e41
X-WR-TIMEZONE:America/Chicago
BEGIN:VTIMEZONE
TZID:America/Chicago
BEGIN:STANDARD
TZNAME:CST
DTSTART:20241103T020000
TZOFFSETFROM:-0500
TZOFFSETTO:-0600
RDATE:20251102T020000
END:STANDARD
BEGIN:DAYLIGHT
TZNAME:CDT
DTSTART:20250309T020000
TZOFFSETFROM:-0600
TZOFFSETTO:-0500
RDATE:20260308T020000
END:DAYLIGHT
END:VTIMEZONE
BEGIN:VEVENT
UID:56a4bafd-c183-4a53-b310-e977f57dfb57
DTSTAMP:20260421T081017Z
DESCRIPTION:Monthly Board Meeting
DTSTART;TZID=America/Chicago:20250314T183000
DTEND;TZID=America/Chicago:20250314T200000
LOCATION:Atrium Meeting Room
SUMMARY:Board Meeting
END:VEVENT
END:VCALENDAR
