BEGIN:VCALENDAR
VERSION:2.0
PRODID:-//ease.firespring.org//NONSGML kigkonsult.se iCalcreator 2.30.10//
CALSCALE:GREGORIAN
METHOD:PUBLISH
UID:f88a5ca9-9adc-4145-93a2-5037c3ceabfe
X-WR-CALDESC:Monthly Board Meeting
X-WR-RELCALID:82923e4b26e8fe24c9d6cde868a0a3a3
X-WR-TIMEZONE:America/Chicago
BEGIN:VTIMEZONE
TZID:America/Chicago
BEGIN:STANDARD
TZNAME:CST
DTSTART:20241103T020000
TZOFFSETFROM:-0500
TZOFFSETTO:-0600
RDATE:20251102T020000
END:STANDARD
BEGIN:DAYLIGHT
TZNAME:CDT
DTSTART:20240310T020000
TZOFFSETFROM:-0600
TZOFFSETTO:-0500
RDATE:20250309T020000
RDATE:20260308T020000
END:DAYLIGHT
END:VTIMEZONE
BEGIN:VEVENT
UID:7551bd73-c79d-49ab-9507-baefd48b0d76
DTSTAMP:20260425T115322Z
DESCRIPTION:Monthly Board Meeting
DTSTART;TZID=America/Chicago:20241213T183000
DTEND;TZID=America/Chicago:20241213T200000
LOCATION:Atrium Meeting Room
SUMMARY:Board Meeting
END:VEVENT
END:VCALENDAR
