BEGIN:VCALENDAR
VERSION:2.0
PRODID:-//ease.firespring.org//NONSGML kigkonsult.se iCalcreator 2.30.10//
CALSCALE:GREGORIAN
METHOD:PUBLISH
UID:355c90a1-9cd5-4464-ab9f-022c01c715ac
X-WR-CALDESC:Monthly Board Meeting
X-WR-RELCALID:31de7d8fad3f4db7c29080ce533bb68a
X-WR-TIMEZONE:America/Chicago
BEGIN:VTIMEZONE
TZID:America/Chicago
BEGIN:STANDARD
TZNAME:CST
DTSTART:20241103T020000
TZOFFSETFROM:-0500
TZOFFSETTO:-0600
RDATE:20251102T020000
END:STANDARD
BEGIN:DAYLIGHT
TZNAME:CDT
DTSTART:20240310T020000
TZOFFSETFROM:-0600
TZOFFSETTO:-0500
RDATE:20250309T020000
RDATE:20260308T020000
END:DAYLIGHT
END:VTIMEZONE
BEGIN:VEVENT
UID:205a5f25-08c0-41c9-9ec2-8074da48e197
DTSTAMP:20260425T131710Z
DESCRIPTION:Monthly Board Meeting
DTSTART;TZID=America/Chicago:20241108T183000
DTEND;TZID=America/Chicago:20241108T200000
LOCATION:Atrium Meeting Room
SUMMARY:Board Meeting
END:VEVENT
END:VCALENDAR
