BEGIN:VCALENDAR
VERSION:2.0
PRODID:-//ease.firespring.org//NONSGML kigkonsult.se iCalcreator 2.30.10//
CALSCALE:GREGORIAN
METHOD:PUBLISH
UID:21cf299b-2005-42d4-bc5c-edfbe88b4424
X-WR-CALDESC:Join us for an unforgettable day of golf\, philanthropy\, and 
 camaraderie at our 'Swing for a Cause - Golf Classic Fundraising Event.' T
 his exclusive charity golf tournament is your opportunity to make a differ
 ence while enjoying a day on the greens.\n\nWhat to Expect:\n\nA challengi
 ng and exciting 18-hole golf tournament for players of all skill levels.\n
 •Prizes and awards for top-performing teams and individual golfers.\n•Deli
 cious on-course refreshments and lunch provided.\n•Silent auction and raff
 le with fantastic prizes.\n•Networking opportunities with like-minded indi
 viduals and local businesses.\n•The satisfaction of knowing you're support
 ing a great cause.\n\nYour participation in this Golf Classic Fundraising 
 Event will help us raise funds for ABC 123 Nonprofit\, enabling us to make
  an impact and meet our goals. Together\, we can make a significant differ
 ence in the lives of those in need while enjoying a day of golf and commun
 ity.\n\nWhether you're a seasoned golfer or just looking to have a fun day
  out\, Swing for a Cause welcomes all participants. Join us and be a part 
 of something truly special. Together\, we can tee off for a better world.
 \n\nDon't miss this opportunity to combine your love for golf with your pa
 ssion for giving back. Reserve your spot today and help us make a positive
  impact in our community.
X-WR-RELCALID:bd3586229aba53534c6a7dc9061f7d07
X-WR-TIMEZONE:America/Chicago
BEGIN:VTIMEZONE
TZID:America/Chicago
BEGIN:STANDARD
TZNAME:CST
DTSTART:20231105T020000
TZOFFSETFROM:-0500
TZOFFSETTO:-0600
RDATE:20241103T020000
RDATE:20251102T020000
END:STANDARD
BEGIN:DAYLIGHT
TZNAME:CDT
DTSTART:20240310T020000
TZOFFSETFROM:-0600
TZOFFSETTO:-0500
RDATE:20250309T020000
RDATE:20260308T020000
END:DAYLIGHT
END:VTIMEZONE
BEGIN:VEVENT
UID:f0be7f46-014f-4137-ad82-ebea1f56f419
DTSTAMP:20260425T143824Z
DESCRIPTION:Join us for an unforgettable day of golf\, philanthropy\, and c
 amaraderie at our 'Swing for a Cause - Golf Classic Fundraising Event.' Th
 is exclusive charity golf tournament is your opportunity to make a differe
 nce while enjoying a day on the greens.\n\nWhat to Expect:\n\nA challengin
 g and exciting 18-hole golf tournament for players of all skill levels.\n•
 Prizes and awards for top-performing teams and individual golfers.\n•Delic
 ious on-course refreshments and lunch provided.\n•Silent auction and raffl
 e with fantastic prizes.\n•Networking opportunities with like-minded indiv
 iduals and local businesses.\n•The satisfaction of knowing you're supporti
 ng a great cause.\n\nYour participation in this Golf Classic Fundraising E
 vent will help us raise funds for ABC 123 Nonprofit\, enabling us to make 
 an impact and meet our goals. Together\, we can make a significant differe
 nce in the lives of those in need while enjoying a day of golf and communi
 ty.\n\nWhether you're a seasoned golfer or just looking to have a fun day 
 out\, Swing for a Cause welcomes all participants. Join us and be a part o
 f something truly special. Together\, we can tee off for a better world.\n
 \nDon't miss this opportunity to combine your love for golf with your pass
 ion for giving back. Reserve your spot today and help us make a positive i
 mpact in our community.
DTSTART;TZID=America/Chicago:20241012T110000
DTEND;TZID=America/Chicago:20241012T180000
LOCATION:
SUMMARY:Swing For a Cause
END:VEVENT
END:VCALENDAR
