BEGIN:VCALENDAR
VERSION:2.0
PRODID:-//ease.firespring.org//NONSGML kigkonsult.se iCalcreator 2.30.10//
CALSCALE:GREGORIAN
METHOD:PUBLISH
UID:e14f7b80-14eb-46cd-8bc2-88ee567bae8e
X-WR-CALDESC:Monthly Board Meeting
X-WR-RELCALID:bac412256e75810acee47739f37a1e9b
X-WR-TIMEZONE:America/Chicago
BEGIN:VTIMEZONE
TZID:America/Chicago
BEGIN:STANDARD
TZNAME:CST
DTSTART:20231105T020000
TZOFFSETFROM:-0500
TZOFFSETTO:-0600
RDATE:20241103T020000
RDATE:20251102T020000
END:STANDARD
BEGIN:DAYLIGHT
TZNAME:CDT
DTSTART:20240310T020000
TZOFFSETFROM:-0600
TZOFFSETTO:-0500
RDATE:20250309T020000
END:DAYLIGHT
END:VTIMEZONE
BEGIN:VEVENT
UID:82a17aea-6a51-4737-b4a4-da1ed42ac0d3
DTSTAMP:20260425T200112Z
DESCRIPTION:Monthly Board Meeting
DTSTART;TZID=America/Chicago:20240614T183000
DTEND;TZID=America/Chicago:20240614T200000
LOCATION:Atrium Meeting Room
SUMMARY:Board Meeting
END:VEVENT
END:VCALENDAR
