BEGIN:VCALENDAR
VERSION:2.0
PRODID:-//ease.firespring.org//NONSGML kigkonsult.se iCalcreator 2.30.10//
CALSCALE:GREGORIAN
METHOD:PUBLISH
UID:f3c61c88-1549-4026-91c2-fd5ba668de9e
X-WR-CALDESC:Monthly Board Meeting
X-WR-RELCALID:b16774d298043e1ea7289860df25a8ea
X-WR-TIMEZONE:America/Chicago
BEGIN:VTIMEZONE
TZID:America/Chicago
BEGIN:STANDARD
TZNAME:CST
DTSTART:20231105T020000
TZOFFSETFROM:-0500
TZOFFSETTO:-0600
RDATE:20241103T020000
END:STANDARD
BEGIN:DAYLIGHT
TZNAME:CDT
DTSTART:20230312T020000
TZOFFSETFROM:-0600
TZOFFSETTO:-0500
RDATE:20240310T020000
RDATE:20250309T020000
END:DAYLIGHT
END:VTIMEZONE
BEGIN:VEVENT
UID:300843ad-3481-4936-bae9-fc9357f4d989
DTSTAMP:20260426T002256Z
DESCRIPTION:Monthly Board Meeting
DTSTART;TZID=America/Chicago:20240308T183000
DTEND;TZID=America/Chicago:20240308T200000
LOCATION:Atrium Meeting Room
SUMMARY:Board Meeting
END:VEVENT
END:VCALENDAR
