BEGIN:VCALENDAR
VERSION:2.0
PRODID:-//ease.firespring.org//NONSGML kigkonsult.se iCalcreator 2.30.10//
CALSCALE:GREGORIAN
METHOD:PUBLISH
UID:b53e1f45-fe6a-4af4-9b13-94238ed45aab
X-WR-CALDESC:Monthly Board Meeting
X-WR-RELCALID:5fabf71facbbaf6a95e0d99ce34336bc
X-WR-TIMEZONE:America/Chicago
BEGIN:VTIMEZONE
TZID:America/Chicago
BEGIN:STANDARD
TZNAME:CST
DTSTART:20271107T020000
TZOFFSETFROM:-0500
TZOFFSETTO:-0600
RDATE:20281105T020000
END:STANDARD
BEGIN:DAYLIGHT
TZNAME:CDT
DTSTART:20280312T020000
TZOFFSETFROM:-0600
TZOFFSETTO:-0500
RDATE:20290311T020000
END:DAYLIGHT
END:VTIMEZONE
BEGIN:VEVENT
UID:7f89db9c-6b01-4af2-8ea8-8a2e810a60d9
DTSTAMP:20260426T002139Z
DESCRIPTION:Monthly Board Meeting
DTSTART;TZID=America/Chicago:20280414T183000
DTEND;TZID=America/Chicago:20280414T200000
LOCATION:Atrium Meeting Room
SUMMARY:Board Meeting
END:VEVENT
END:VCALENDAR
