BEGIN:VCALENDAR
VERSION:2.0
PRODID:-//ease.firespring.org//NONSGML kigkonsult.se iCalcreator 2.30.10//
CALSCALE:GREGORIAN
METHOD:PUBLISH
UID:0e07e44a-1821-4fd7-9bb1-69e42f852173
X-WR-CALDESC:Monthly Board Meeting
X-WR-RELCALID:f618f8e662d75392c2afbb58e80102ab
X-WR-TIMEZONE:America/Chicago
BEGIN:VTIMEZONE
TZID:America/Chicago
BEGIN:STANDARD
TZNAME:CST
DTSTART:20271107T020000
TZOFFSETFROM:-0500
TZOFFSETTO:-0600
RDATE:20281105T020000
END:STANDARD
BEGIN:DAYLIGHT
TZNAME:CDT
DTSTART:20270314T020000
TZOFFSETFROM:-0600
TZOFFSETTO:-0500
RDATE:20280312T020000
RDATE:20290311T020000
END:DAYLIGHT
END:VTIMEZONE
BEGIN:VEVENT
UID:60ead419-539a-4312-93ea-a2f3d9beca4e
DTSTAMP:20260425T231134Z
DESCRIPTION:Monthly Board Meeting
DTSTART;TZID=America/Chicago:20280310T183000
DTEND;TZID=America/Chicago:20280310T200000
LOCATION:Atrium Meeting Room
SUMMARY:Board Meeting
END:VEVENT
END:VCALENDAR
