BEGIN:VCALENDAR
VERSION:2.0
PRODID:-//ease.firespring.org//NONSGML kigkonsult.se iCalcreator 2.30.10//
CALSCALE:GREGORIAN
METHOD:PUBLISH
UID:810b457b-938c-498d-8722-f019dca8a409
X-WR-CALDESC:Volunteer Appreciation Week is a monthly celebration observed 
 to promote and show appreciation for volunteerism and volunteering.
X-WR-RELCALID:1479cea76f456a23a85dbc2d15fbe8cc
X-WR-TIMEZONE:America/Chicago
BEGIN:VTIMEZONE
TZID:America/Chicago
BEGIN:STANDARD
TZNAME:CST
DTSTART:20271107T020000
TZOFFSETFROM:-0500
TZOFFSETTO:-0600
RDATE:20281105T020000
END:STANDARD
BEGIN:DAYLIGHT
TZNAME:CDT
DTSTART:20270314T020000
TZOFFSETFROM:-0600
TZOFFSETTO:-0500
RDATE:20280312T020000
RDATE:20290311T020000
END:DAYLIGHT
END:VTIMEZONE
BEGIN:VEVENT
UID:c5ff8b09-bc99-4ba3-8e61-e9b571dfa28c
DTSTAMP:20260425T184823Z
DESCRIPTION:Volunteer Appreciation Week is a monthly celebration observed t
 o promote and show appreciation for volunteerism and volunteering.
DTSTART;TZID=America/Chicago:20271219T000000
DTEND;TZID=America/Chicago:20271225T235900
LOCATION:
SUMMARY:Volunteer Appreciation Week
END:VEVENT
END:VCALENDAR
