BEGIN:VCALENDAR
VERSION:2.0
PRODID:-//ease.firespring.org//NONSGML kigkonsult.se iCalcreator 2.30.10//
CALSCALE:GREGORIAN
METHOD:PUBLISH
UID:df5bc3bd-8017-44cc-9bc0-12f5cadf9a90
X-WR-CALDESC:Monthly Board Meeting
X-WR-RELCALID:882a61417bf17d2b7466a51b514365c9
X-WR-TIMEZONE:America/Chicago
BEGIN:VTIMEZONE
TZID:America/Chicago
BEGIN:STANDARD
TZNAME:CST
DTSTART:20261101T020000
TZOFFSETFROM:-0500
TZOFFSETTO:-0600
RDATE:20271107T020000
RDATE:20281105T020000
END:STANDARD
BEGIN:DAYLIGHT
TZNAME:CDT
DTSTART:20270314T020000
TZOFFSETFROM:-0600
TZOFFSETTO:-0500
RDATE:20280312T020000
RDATE:20290311T020000
END:DAYLIGHT
END:VTIMEZONE
BEGIN:VEVENT
UID:6e2754ce-fa0f-45a4-b8dc-99ef2fd31d2a
DTSTAMP:20260425T145408Z
DESCRIPTION:Monthly Board Meeting
DTSTART;TZID=America/Chicago:20270910T183000
DTEND;TZID=America/Chicago:20270910T200000
LOCATION:Atrium Meeting Room
SUMMARY:Board Meeting
END:VEVENT
END:VCALENDAR
