BEGIN:VCALENDAR
VERSION:2.0
PRODID:-//ease.firespring.org//NONSGML kigkonsult.se iCalcreator 2.30.10//
CALSCALE:GREGORIAN
METHOD:PUBLISH
UID:e96e2c53-3bd8-4d70-9e8e-0cefd6f747cb
X-WR-CALDESC:Monthly Board Meeting
X-WR-RELCALID:c043c7410e6b5a7955cba8c8da9c580b
X-WR-TIMEZONE:America/Chicago
BEGIN:VTIMEZONE
TZID:America/Chicago
BEGIN:STANDARD
TZNAME:CST
DTSTART:20261101T020000
TZOFFSETFROM:-0500
TZOFFSETTO:-0600
RDATE:20271107T020000
RDATE:20281105T020000
END:STANDARD
BEGIN:DAYLIGHT
TZNAME:CDT
DTSTART:20270314T020000
TZOFFSETFROM:-0600
TZOFFSETTO:-0500
RDATE:20280312T020000
END:DAYLIGHT
END:VTIMEZONE
BEGIN:VEVENT
UID:25228898-6c43-4bb6-8f7e-9dbb5cc1bdb2
DTSTAMP:20260425T131502Z
DESCRIPTION:Monthly Board Meeting
DTSTART;TZID=America/Chicago:20270813T183000
DTEND;TZID=America/Chicago:20270813T200000
LOCATION:Atrium Meeting Room
SUMMARY:Board Meeting
END:VEVENT
END:VCALENDAR
