BEGIN:VCALENDAR
VERSION:2.0
PRODID:-//ease.firespring.org//NONSGML kigkonsult.se iCalcreator 2.30.10//
CALSCALE:GREGORIAN
METHOD:PUBLISH
UID:acb18db4-ae17-4a06-9a5f-f38811916f22
X-WR-CALDESC:Monthly Board Meeting
X-WR-RELCALID:2333fff58816483525b4cd0c513c708a
X-WR-TIMEZONE:America/Chicago
BEGIN:VTIMEZONE
TZID:America/Chicago
BEGIN:STANDARD
TZNAME:CST
DTSTART:20261101T020000
TZOFFSETFROM:-0500
TZOFFSETTO:-0600
RDATE:20271107T020000
RDATE:20281105T020000
END:STANDARD
BEGIN:DAYLIGHT
TZNAME:CDT
DTSTART:20270314T020000
TZOFFSETFROM:-0600
TZOFFSETTO:-0500
RDATE:20280312T020000
END:DAYLIGHT
END:VTIMEZONE
BEGIN:VEVENT
UID:7651f1ae-d3af-44c9-8586-512572ff3038
DTSTAMP:20260425T115115Z
DESCRIPTION:Monthly Board Meeting
DTSTART;TZID=America/Chicago:20270709T183000
DTEND;TZID=America/Chicago:20270709T200000
LOCATION:Atrium Meeting Room
SUMMARY:Board Meeting
END:VEVENT
END:VCALENDAR
