BEGIN:VCALENDAR
VERSION:2.0
PRODID:-//ease.firespring.org//NONSGML kigkonsult.se iCalcreator 2.30.10//
CALSCALE:GREGORIAN
METHOD:PUBLISH
UID:e2b1fe0f-3370-4f15-92ad-abcc808bc095
X-WR-CALDESC:Monthly Board Meeting
X-WR-RELCALID:103a472cc13f443085dbf49e6a224cb5
X-WR-TIMEZONE:America/Chicago
BEGIN:VTIMEZONE
TZID:America/Chicago
BEGIN:STANDARD
TZNAME:CST
DTSTART:20261101T020000
TZOFFSETFROM:-0500
TZOFFSETTO:-0600
RDATE:20271107T020000
RDATE:20281105T020000
END:STANDARD
BEGIN:DAYLIGHT
TZNAME:CDT
DTSTART:20270314T020000
TZOFFSETFROM:-0600
TZOFFSETTO:-0500
RDATE:20280312T020000
END:DAYLIGHT
END:VTIMEZONE
BEGIN:VEVENT
UID:ddba18fd-41d4-47cd-8424-ebc3d5b19cac
DTSTAMP:20260421T081621Z
DESCRIPTION:Monthly Board Meeting
DTSTART;TZID=America/Chicago:20270514T183000
DTEND;TZID=America/Chicago:20270514T200000
LOCATION:Atrium Meeting Room
SUMMARY:Board Meeting
END:VEVENT
END:VCALENDAR
