BEGIN:VCALENDAR
VERSION:2.0
PRODID:-//ease.firespring.org//NONSGML kigkonsult.se iCalcreator 2.30.10//
CALSCALE:GREGORIAN
METHOD:PUBLISH
UID:78e2045a-73b1-46e8-ad48-8b314358e296
X-WR-CALDESC:Monthly Board Meeting
X-WR-RELCALID:48abd10500c51060f2a6c47f7a59efdf
X-WR-TIMEZONE:America/Chicago
BEGIN:VTIMEZONE
TZID:America/Chicago
BEGIN:STANDARD
TZNAME:CST
DTSTART:20241103T020000
TZOFFSETFROM:-0500
TZOFFSETTO:-0600
RDATE:20251102T020000
END:STANDARD
BEGIN:DAYLIGHT
TZNAME:CDT
DTSTART:20240310T020000
TZOFFSETFROM:-0600
TZOFFSETTO:-0500
RDATE:20250309T020000
RDATE:20260308T020000
END:DAYLIGHT
END:VTIMEZONE
BEGIN:VEVENT
UID:5150c659-27af-4ab1-b6cf-7e16be060ab4
DTSTAMP:20260425T112822Z
DESCRIPTION:Monthly Board Meeting
DTSTART;TZID=America/Chicago:20250110T183000
DTEND;TZID=America/Chicago:20250110T200000
LOCATION:Atrium Meeting Room
SUMMARY:Board Meeting
END:VEVENT
END:VCALENDAR
