BEGIN:VCALENDAR
VERSION:2.0
PRODID:-//ease.firespring.org//NONSGML kigkonsult.se iCalcreator 2.30.10//
CALSCALE:GREGORIAN
METHOD:PUBLISH
UID:dae58f9e-fba7-4079-ae62-f80085a9798e
X-WR-CALDESC:Monthly Board Meeting
X-WR-RELCALID:6418eba5d465736ce37970ff9071ede9
X-WR-TIMEZONE:America/Chicago
BEGIN:VTIMEZONE
TZID:America/Chicago
BEGIN:STANDARD
TZNAME:CST
DTSTART:20231105T020000
TZOFFSETFROM:-0500
TZOFFSETTO:-0600
RDATE:20241103T020000
RDATE:20251102T020000
END:STANDARD
BEGIN:DAYLIGHT
TZNAME:CDT
DTSTART:20240310T020000
TZOFFSETFROM:-0600
TZOFFSETTO:-0500
RDATE:20250309T020000
END:DAYLIGHT
END:VTIMEZONE
BEGIN:VEVENT
UID:30958a0c-5031-4d4f-a54e-e0fc56346ed7
DTSTAMP:20260425T184047Z
DESCRIPTION:Monthly Board Meeting
DTSTART;TZID=America/Chicago:20240809T183000
DTEND;TZID=America/Chicago:20240809T200000
LOCATION:Atrium Meeting Room
SUMMARY:Board Meeting
END:VEVENT
END:VCALENDAR
