BEGIN:VCALENDAR
VERSION:2.0
PRODID:-//ease.firespring.org//NONSGML kigkonsult.se iCalcreator 2.30.10//
CALSCALE:GREGORIAN
METHOD:PUBLISH
UID:4d1ffcf4-2ede-4efb-a77a-7994ea1f2324
X-WR-CALDESC:Monthly Board Meeting
X-WR-RELCALID:bde24aa1eab436173525f4c2ade27c6c
X-WR-TIMEZONE:America/Chicago
BEGIN:VTIMEZONE
TZID:America/Chicago
BEGIN:STANDARD
TZNAME:CST
DTSTART:20231105T020000
TZOFFSETFROM:-0500
TZOFFSETTO:-0600
RDATE:20241103T020000
RDATE:20251102T020000
END:STANDARD
BEGIN:DAYLIGHT
TZNAME:CDT
DTSTART:20240310T020000
TZOFFSETFROM:-0600
TZOFFSETTO:-0500
RDATE:20250309T020000
END:DAYLIGHT
END:VTIMEZONE
BEGIN:VEVENT
UID:1b538e4e-2ace-4e91-aec9-07f32348d244
DTSTAMP:20260425T202318Z
DESCRIPTION:Monthly Board Meeting
DTSTART;TZID=America/Chicago:20240712T183000
DTEND;TZID=America/Chicago:20240712T200000
LOCATION:Atrium Meeting Room
SUMMARY:Board Meeting
END:VEVENT
END:VCALENDAR
