BEGIN:VCALENDAR
VERSION:2.0
PRODID:-//ease.firespring.org//NONSGML kigkonsult.se iCalcreator 2.30.10//
CALSCALE:GREGORIAN
METHOD:PUBLISH
UID:a5ae206b-aed2-4005-9a2a-1cec78ae5f44
X-WR-CALDESC:Monthly Board Meeting
X-WR-RELCALID:65058af891f8a3a5f6109eae6b8bcedf
X-WR-TIMEZONE:America/Chicago
BEGIN:VTIMEZONE
TZID:America/Chicago
BEGIN:STANDARD
TZNAME:CST
DTSTART:20231105T020000
TZOFFSETFROM:-0500
TZOFFSETTO:-0600
RDATE:20241103T020000
RDATE:20251102T020000
END:STANDARD
BEGIN:DAYLIGHT
TZNAME:CDT
DTSTART:20240310T020000
TZOFFSETFROM:-0600
TZOFFSETTO:-0500
RDATE:20250309T020000
END:DAYLIGHT
END:VTIMEZONE
BEGIN:VEVENT
UID:9d93faab-bbe3-4a23-805c-9115257135a3
DTSTAMP:20260425T230307Z
DESCRIPTION:Monthly Board Meeting
DTSTART;TZID=America/Chicago:20240510T183000
DTEND;TZID=America/Chicago:20240510T200000
LOCATION:Atrium Meeting Room
SUMMARY:Board Meeting
END:VEVENT
END:VCALENDAR
